BEGIN:VCALENDAR
VERSION:2.0
PRODID:-//Pfadi Schaffhausen - ECPv6.15.20//NONSGML v1.0//EN
CALSCALE:GREGORIAN
METHOD:PUBLISH
X-WR-CALNAME:Pfadi Schaffhausen
X-ORIGINAL-URL:https://pfadi.sh
X-WR-CALDESC:Veranstaltungen für Pfadi Schaffhausen
REFRESH-INTERVAL;VALUE=DURATION:PT1H
X-Robots-Tag:noindex
X-PUBLISHED-TTL:PT1H
BEGIN:VTIMEZONE
TZID:Europe/Zurich
BEGIN:DAYLIGHT
TZOFFSETFROM:+0100
TZOFFSETTO:+0200
TZNAME:CEST
DTSTART:20230326T010000
END:DAYLIGHT
BEGIN:STANDARD
TZOFFSETFROM:+0200
TZOFFSETTO:+0100
TZNAME:CET
DTSTART:20231029T010000
END:STANDARD
BEGIN:DAYLIGHT
TZOFFSETFROM:+0100
TZOFFSETTO:+0200
TZNAME:CEST
DTSTART:20240331T010000
END:DAYLIGHT
BEGIN:STANDARD
TZOFFSETFROM:+0200
TZOFFSETTO:+0100
TZNAME:CET
DTSTART:20241027T010000
END:STANDARD
BEGIN:DAYLIGHT
TZOFFSETFROM:+0100
TZOFFSETTO:+0200
TZNAME:CEST
DTSTART:20250330T010000
END:DAYLIGHT
BEGIN:STANDARD
TZOFFSETFROM:+0200
TZOFFSETTO:+0100
TZNAME:CET
DTSTART:20251026T010000
END:STANDARD
END:VTIMEZONE
BEGIN:VEVENT
DTSTART;VALUE=DATE:20240328
DTEND;VALUE=DATE:20240405
DTSTAMP:20260426T055243
CREATED:20241106T205450Z
LAST-MODIFIED:20241106T205450Z
UID:2013-1711587600-1712192399@pfadi.sh
SUMMARY:Basiskurs Wolfstufe
DESCRIPTION:
URL:https://pfadi.sh/event/basiskurs-wolfstufe/
END:VEVENT
BEGIN:VEVENT
DTSTART;VALUE=DATE:20240328
DTEND;VALUE=DATE:20240405
DTSTAMP:20260426T055243
CREATED:20241106T205450Z
LAST-MODIFIED:20241106T205450Z
UID:2014-1711587600-1712192399@pfadi.sh
SUMMARY:Aufbaukurs
DESCRIPTION:
URL:https://pfadi.sh/event/aufbaukurs/
END:VEVENT
BEGIN:VEVENT
DTSTART;VALUE=DATE:20240329
DTEND;VALUE=DATE:20240405
DTSTAMP:20260426T055243
CREATED:20241106T205450Z
LAST-MODIFIED:20241106T205450Z
UID:2015-1711674000-1712192399@pfadi.sh
SUMMARY:Basiskurs Pfadistufe
DESCRIPTION:
URL:https://pfadi.sh/event/basiskurs-pfadistufe/
END:VEVENT
BEGIN:VEVENT
DTSTART;VALUE=DATE:20240413
DTEND;VALUE=DATE:20240415
DTSTAMP:20260426T055243
CREATED:20241106T205451Z
LAST-MODIFIED:20241106T205451Z
UID:2016-1712970000-1713056399@pfadi.sh
SUMMARY:Beginn Frühlingsferien SH
DESCRIPTION:
URL:https://pfadi.sh/event/beginn-fruehlingsferien-sh/
END:VEVENT
BEGIN:VEVENT
DTSTART;VALUE=DATE:20240420
DTEND;VALUE=DATE:20240422
DTSTAMP:20260426T055243
CREATED:20241106T205451Z
LAST-MODIFIED:20241106T205451Z
UID:2017-1713574800-1713661199@pfadi.sh
SUMMARY:Beginn Frühlingsferien ZH
DESCRIPTION:
URL:https://pfadi.sh/event/beginn-fruehlingsferien-zh/
END:VEVENT
BEGIN:VEVENT
DTSTART;VALUE=DATE:20240427
DTEND;VALUE=DATE:20240430
DTSTAMP:20260426T055243
CREATED:20241106T205451Z
LAST-MODIFIED:20241106T205451Z
UID:2018-1714179600-1714352399@pfadi.sh
SUMMARY:Modul Fortbildung (MF)
DESCRIPTION:
URL:https://pfadi.sh/event/modul-fortbildung-mf/
END:VEVENT
BEGIN:VEVENT
DTSTART;VALUE=DATE:20240428
DTEND;VALUE=DATE:20240430
DTSTAMP:20260426T055243
CREATED:20241106T205451Z
LAST-MODIFIED:20241106T205451Z
UID:2019-1714266000-1714352399@pfadi.sh
SUMMARY:Ende Frühlingsferien SH
DESCRIPTION:
URL:https://pfadi.sh/event/ende-fruehlingsferien-sh/
END:VEVENT
END:VCALENDAR