BEGIN:VCALENDAR
VERSION:2.0
PRODID:-//Pfadi Schaffhausen - ECPv6.15.20//NONSGML v1.0//EN
CALSCALE:GREGORIAN
METHOD:PUBLISH
X-WR-CALNAME:Pfadi Schaffhausen
X-ORIGINAL-URL:https://pfadi.sh
X-WR-CALDESC:Veranstaltungen für Pfadi Schaffhausen
REFRESH-INTERVAL;VALUE=DURATION:PT1H
X-Robots-Tag:noindex
X-PUBLISHED-TTL:PT1H
BEGIN:VTIMEZONE
TZID:Europe/Zurich
BEGIN:DAYLIGHT
TZOFFSETFROM:+0100
TZOFFSETTO:+0200
TZNAME:CEST
DTSTART:20230326T010000
END:DAYLIGHT
BEGIN:STANDARD
TZOFFSETFROM:+0200
TZOFFSETTO:+0100
TZNAME:CET
DTSTART:20231029T010000
END:STANDARD
BEGIN:DAYLIGHT
TZOFFSETFROM:+0100
TZOFFSETTO:+0200
TZNAME:CEST
DTSTART:20240331T010000
END:DAYLIGHT
BEGIN:STANDARD
TZOFFSETFROM:+0200
TZOFFSETTO:+0100
TZNAME:CET
DTSTART:20241027T010000
END:STANDARD
BEGIN:DAYLIGHT
TZOFFSETFROM:+0100
TZOFFSETTO:+0200
TZNAME:CEST
DTSTART:20250330T010000
END:DAYLIGHT
BEGIN:STANDARD
TZOFFSETFROM:+0200
TZOFFSETTO:+0100
TZNAME:CET
DTSTART:20251026T010000
END:STANDARD
END:VTIMEZONE
BEGIN:VEVENT
DTSTART;VALUE=DATE:20240505
DTEND;VALUE=DATE:20240507
DTSTAMP:20260426T055649
CREATED:20241106T205451Z
LAST-MODIFIED:20241106T205451Z
UID:2020-1714870800-1714957199@pfadi.sh
SUMMARY:Ende Frühlingsferien ZH
DESCRIPTION:
URL:https://pfadi.sh/event/ende-fruehlingsferien-zh/
END:VEVENT
BEGIN:VEVENT
DTSTART;VALUE=DATE:20240508
DTEND;VALUE=DATE:20240514
DTSTAMP:20260426T055649
CREATED:20241106T205506Z
LAST-MODIFIED:20241106T205506Z
UID:2021-1715130000-1715561999@pfadi.sh
SUMMARY:Panoramakurs Teil 1
DESCRIPTION:
URL:https://pfadi.sh/event/panoramakurs-teil-1/
END:VEVENT
BEGIN:VEVENT
DTSTART;VALUE=DATE:20240511
DTEND;VALUE=DATE:20240513
DTSTAMP:20260426T055649
CREATED:20241106T205506Z
LAST-MODIFIED:20250226T221250Z
UID:2022-1715389200-1715475599@pfadi.sh
SUMMARY:Grillsaisonstart
DESCRIPTION:
URL:https://pfadi.sh/event/grillsaisonstart/
ORGANIZER;CN="PKS":MAILTO:kommunikation@pfadi.sh
END:VEVENT
BEGIN:VEVENT
DTSTART;VALUE=DATE:20240512
DTEND;VALUE=DATE:20240514
DTSTAMP:20260426T055649
CREATED:20241106T205506Z
LAST-MODIFIED:20241106T205506Z
UID:2023-1715475600-1715561999@pfadi.sh
SUMMARY:Späher 2 (PATH PAF PAST Güetli SW)
DESCRIPTION:
URL:https://pfadi.sh/event/spaeher-2-path-paf-past-gueetli-sw/
END:VEVENT
BEGIN:VEVENT
DTSTART;VALUE=DATE:20240525
DTEND;VALUE=DATE:20240527
DTSTAMP:20260426T055649
CREATED:20241106T205506Z
LAST-MODIFIED:20241106T205506Z
UID:2024-1716598800-1716685199@pfadi.sh
SUMMARY:Tag der Guten Tat
DESCRIPTION:
URL:https://pfadi.sh/event/tag-der-guten-tat/
END:VEVENT
BEGIN:VEVENT
DTSTART;VALUE=DATE:20240526
DTEND;VALUE=DATE:20240528
DTSTAMP:20260426T055649
CREATED:20241106T205506Z
LAST-MODIFIED:20241106T205506Z
UID:2025-1716685200-1716771599@pfadi.sh
SUMMARY:Siech
DESCRIPTION:
URL:https://pfadi.sh/event/siech/
END:VEVENT
BEGIN:VEVENT
DTSTART;VALUE=DATE:20240530
DTEND;VALUE=DATE:20240604
DTSTAMP:20260426T055649
CREATED:20241106T205525Z
LAST-MODIFIED:20241106T205525Z
UID:2026-1717030800-1717376399@pfadi.sh
SUMMARY:Panoramakurs Teil 2
DESCRIPTION:
URL:https://pfadi.sh/event/panoramakurs-teil-2/
END:VEVENT
END:VCALENDAR