BEGIN:VCALENDAR
VERSION:2.0
PRODID:-//Pfadi Schaffhausen - ECPv6.15.20//NONSGML v1.0//EN
CALSCALE:GREGORIAN
METHOD:PUBLISH
X-WR-CALNAME:Pfadi Schaffhausen
X-ORIGINAL-URL:https://pfadi.sh
X-WR-CALDESC:Veranstaltungen für Pfadi Schaffhausen
REFRESH-INTERVAL;VALUE=DURATION:PT1H
X-Robots-Tag:noindex
X-PUBLISHED-TTL:PT1H
BEGIN:VTIMEZONE
TZID:Europe/Zurich
BEGIN:DAYLIGHT
TZOFFSETFROM:+0100
TZOFFSETTO:+0200
TZNAME:CEST
DTSTART:20230326T010000
END:DAYLIGHT
BEGIN:STANDARD
TZOFFSETFROM:+0200
TZOFFSETTO:+0100
TZNAME:CET
DTSTART:20231029T010000
END:STANDARD
BEGIN:DAYLIGHT
TZOFFSETFROM:+0100
TZOFFSETTO:+0200
TZNAME:CEST
DTSTART:20240331T010000
END:DAYLIGHT
BEGIN:STANDARD
TZOFFSETFROM:+0200
TZOFFSETTO:+0100
TZNAME:CET
DTSTART:20241027T010000
END:STANDARD
BEGIN:DAYLIGHT
TZOFFSETFROM:+0100
TZOFFSETTO:+0200
TZNAME:CEST
DTSTART:20250330T010000
END:DAYLIGHT
BEGIN:STANDARD
TZOFFSETFROM:+0200
TZOFFSETTO:+0100
TZNAME:CET
DTSTART:20251026T010000
END:STANDARD
END:VTIMEZONE
BEGIN:VEVENT
DTSTART;VALUE=DATE:20240706
DTEND;VALUE=DATE:20240708
DTSTAMP:20260426T025639
CREATED:20241106T205539Z
LAST-MODIFIED:20241106T205539Z
UID:2032-1720227600-1720313999@pfadi.sh
SUMMARY:Beginn Sommerferien SH
DESCRIPTION:
URL:https://pfadi.sh/event/beginn-sommerferien-sh/
END:VEVENT
BEGIN:VEVENT
DTSTART;VALUE=DATE:20240713
DTEND;VALUE=DATE:20240715
DTSTAMP:20260426T025639
CREATED:20241106T205539Z
LAST-MODIFIED:20241106T205539Z
UID:2034-1720832400-1720918799@pfadi.sh
SUMMARY:Beginn Sommerferien ZH
DESCRIPTION:
URL:https://pfadi.sh/event/beginn-sommerferien-zh/
END:VEVENT
BEGIN:VEVENT
DTSTART;VALUE=DATE:20240713
DTEND;VALUE=DATE:20240722
DTSTAMP:20260426T025639
CREATED:20241106T205539Z
LAST-MODIFIED:20241106T205539Z
UID:2033-1720832400-1721523599@pfadi.sh
SUMMARY:Piolager
DESCRIPTION:
URL:https://pfadi.sh/event/piolager/
END:VEVENT
BEGIN:VEVENT
DTSTART;VALUE=DATE:20240727
DTEND;VALUE=DATE:20240805
DTSTAMP:20260426T025639
CREATED:20241106T205539Z
LAST-MODIFIED:20241106T205539Z
UID:2035-1722042000-1722733199@pfadi.sh
SUMMARY:Panoramakurs
DESCRIPTION:
URL:https://pfadi.sh/event/panoramakurs/
END:VEVENT
END:VCALENDAR