BEGIN:VCALENDAR
VERSION:2.0
PRODID:-//Pfadi Schaffhausen - ECPv6.15.20//NONSGML v1.0//EN
CALSCALE:GREGORIAN
METHOD:PUBLISH
X-WR-CALNAME:Pfadi Schaffhausen
X-ORIGINAL-URL:https://pfadi.sh
X-WR-CALDESC:Veranstaltungen für Pfadi Schaffhausen
REFRESH-INTERVAL;VALUE=DURATION:PT1H
X-Robots-Tag:noindex
X-PUBLISHED-TTL:PT1H
BEGIN:VTIMEZONE
TZID:Europe/Zurich
BEGIN:DAYLIGHT
TZOFFSETFROM:+0100
TZOFFSETTO:+0200
TZNAME:CEST
DTSTART:20230326T010000
END:DAYLIGHT
BEGIN:STANDARD
TZOFFSETFROM:+0200
TZOFFSETTO:+0100
TZNAME:CET
DTSTART:20231029T010000
END:STANDARD
BEGIN:DAYLIGHT
TZOFFSETFROM:+0100
TZOFFSETTO:+0200
TZNAME:CEST
DTSTART:20240331T010000
END:DAYLIGHT
BEGIN:STANDARD
TZOFFSETFROM:+0200
TZOFFSETTO:+0100
TZNAME:CET
DTSTART:20241027T010000
END:STANDARD
BEGIN:DAYLIGHT
TZOFFSETFROM:+0100
TZOFFSETTO:+0200
TZNAME:CEST
DTSTART:20250330T010000
END:DAYLIGHT
BEGIN:STANDARD
TZOFFSETFROM:+0200
TZOFFSETTO:+0100
TZNAME:CET
DTSTART:20251026T010000
END:STANDARD
END:VTIMEZONE
BEGIN:VEVENT
DTSTART;VALUE=DATE:20240727
DTEND;VALUE=DATE:20240805
DTSTAMP:20260426T000211
CREATED:20241106T205539Z
LAST-MODIFIED:20241106T205539Z
UID:2035-1722042000-1722733199@pfadi.sh
SUMMARY:Panoramakurs
DESCRIPTION:
URL:https://pfadi.sh/event/panoramakurs/
END:VEVENT
BEGIN:VEVENT
DTSTART;VALUE=DATE:20240810
DTEND;VALUE=DATE:20240819
DTSTAMP:20260426T000211
CREATED:20241106T205738Z
LAST-MODIFIED:20241106T205738Z
UID:2036-1723251600-1723942799@pfadi.sh
SUMMARY:Topkurs
DESCRIPTION:
URL:https://pfadi.sh/event/topkurs/
END:VEVENT
BEGIN:VEVENT
DTSTART;VALUE=DATE:20240811
DTEND;VALUE=DATE:20240813
DTSTAMP:20260426T000211
CREATED:20241106T205738Z
LAST-MODIFIED:20241106T205738Z
UID:2037-1723338000-1723424399@pfadi.sh
SUMMARY:Ende Sommerferien SH
DESCRIPTION:
URL:https://pfadi.sh/event/ende-sommerferien-sh/
END:VEVENT
BEGIN:VEVENT
DTSTART;VALUE=DATE:20240811
DTEND;VALUE=DATE:20240813
DTSTAMP:20260426T000211
CREATED:20241106T205738Z
LAST-MODIFIED:20241106T205738Z
UID:2038-1723338000-1723424399@pfadi.sh
SUMMARY:Späher 3 (PATH PAN PAMK HaWi Güetli)
DESCRIPTION:
URL:https://pfadi.sh/event/spaeher-3-path-pan-pamk-hawi-gueetli/
END:VEVENT
BEGIN:VEVENT
DTSTART;VALUE=DATE:20240816
DTEND;VALUE=DATE:20240818
DTSTAMP:20260426T000211
CREATED:20241106T205738Z
LAST-MODIFIED:20241106T205738Z
UID:2039-1723770000-1723856399@pfadi.sh
SUMMARY:AL-Runde 3 (HaWi Apéro)
DESCRIPTION:
URL:https://pfadi.sh/event/al-runde-3-hawi-apero/
END:VEVENT
BEGIN:VEVENT
DTSTART;VALUE=DATE:20240817
DTEND;VALUE=DATE:20240819
DTSTAMP:20260426T000211
CREATED:20241106T205753Z
LAST-MODIFIED:20241106T205753Z
UID:2041-1723856400-1723942799@pfadi.sh
SUMMARY:Roverkino
DESCRIPTION:
URL:https://pfadi.sh/event/roverkino/
END:VEVENT
BEGIN:VEVENT
DTSTART;VALUE=DATE:20240817
DTEND;VALUE=DATE:20240820
DTSTAMP:20260426T000211
CREATED:20241106T205738Z
LAST-MODIFIED:20241106T205738Z
UID:2040-1723856400-1724029199@pfadi.sh
SUMMARY:Seiltechnik-Weekend
DESCRIPTION:
URL:https://pfadi.sh/event/seiltechnik-weekend/
END:VEVENT
BEGIN:VEVENT
DTSTART;VALUE=DATE:20240818
DTEND;VALUE=DATE:20240820
DTSTAMP:20260426T000211
CREATED:20241106T205753Z
LAST-MODIFIED:20241106T205753Z
UID:2042-1723942800-1724029199@pfadi.sh
SUMMARY:Ende Sommerferien ZH
DESCRIPTION:
URL:https://pfadi.sh/event/ende-sommerferien-zh/
END:VEVENT
BEGIN:VEVENT
DTSTART;VALUE=DATE:20240825
DTEND;VALUE=DATE:20240827
DTSTAMP:20260426T000211
CREATED:20241106T205753Z
LAST-MODIFIED:20241106T205753Z
UID:2043-1724547600-1724633999@pfadi.sh
SUMMARY:Expertenbrunch
DESCRIPTION:
URL:https://pfadi.sh/event/expertenbrunch/
END:VEVENT
BEGIN:VEVENT
DTSTART;VALUE=DATE:20240831
DTEND;VALUE=DATE:20240903
DTSTAMP:20260426T000211
CREATED:20241106T205753Z
LAST-MODIFIED:20241106T205753Z
UID:2044-1725066000-1725238799@pfadi.sh
SUMMARY:KT (Corps SH)
DESCRIPTION:
URL:https://pfadi.sh/event/kt-corps-sh/
END:VEVENT
END:VCALENDAR