BEGIN:VCALENDAR
VERSION:2.0
PRODID:-//Pfadi Schaffhausen - ECPv6.15.20//NONSGML v1.0//EN
CALSCALE:GREGORIAN
METHOD:PUBLISH
X-ORIGINAL-URL:https://pfadi.sh
X-WR-CALDESC:Veranstaltungen für Pfadi Schaffhausen
REFRESH-INTERVAL;VALUE=DURATION:PT1H
X-Robots-Tag:noindex
X-PUBLISHED-TTL:PT1H
BEGIN:VTIMEZONE
TZID:Europe/Zurich
BEGIN:DAYLIGHT
TZOFFSETFROM:+0100
TZOFFSETTO:+0200
TZNAME:CEST
DTSTART:20230326T010000
END:DAYLIGHT
BEGIN:STANDARD
TZOFFSETFROM:+0200
TZOFFSETTO:+0100
TZNAME:CET
DTSTART:20231029T010000
END:STANDARD
BEGIN:DAYLIGHT
TZOFFSETFROM:+0100
TZOFFSETTO:+0200
TZNAME:CEST
DTSTART:20240331T010000
END:DAYLIGHT
BEGIN:STANDARD
TZOFFSETFROM:+0200
TZOFFSETTO:+0100
TZNAME:CET
DTSTART:20241027T010000
END:STANDARD
BEGIN:DAYLIGHT
TZOFFSETFROM:+0100
TZOFFSETTO:+0200
TZNAME:CEST
DTSTART:20250330T010000
END:DAYLIGHT
BEGIN:STANDARD
TZOFFSETFROM:+0200
TZOFFSETTO:+0100
TZNAME:CET
DTSTART:20251026T010000
END:STANDARD
END:VTIMEZONE
BEGIN:VEVENT
DTSTART;VALUE=DATE:20241005
DTEND;VALUE=DATE:20241007
DTSTAMP:20260425T210828
CREATED:20241106T205808Z
LAST-MODIFIED:20241106T205808Z
UID:2049-1728090000-1728176399@pfadi.sh
SUMMARY:Beginn Herbstferien ZH
DESCRIPTION:
URL:https://pfadi.sh/event/beginn-herbstferien-zh/
END:VEVENT
BEGIN:VEVENT
DTSTART;VALUE=DATE:20241005
DTEND;VALUE=DATE:20241014
DTSTAMP:20260425T210828
CREATED:20241106T205808Z
LAST-MODIFIED:20241106T205808Z
UID:2048-1728090000-1728781199@pfadi.sh
SUMMARY:Panokurs Ausland
DESCRIPTION:
URL:https://pfadi.sh/event/panokurs-ausland/
END:VEVENT
BEGIN:VEVENT
DTSTART;VALUE=DATE:20241020
DTEND;VALUE=DATE:20241022
DTSTAMP:20260425T210828
CREATED:20241106T205808Z
LAST-MODIFIED:20241106T205808Z
UID:2050-1729386000-1729472399@pfadi.sh
SUMMARY:Ende Herbstferien SH/ZH
DESCRIPTION:
URL:https://pfadi.sh/event/ende-herbstferien-sh-zh/
END:VEVENT
BEGIN:VEVENT
DTSTART;VALUE=DATE:20241026
DTEND;VALUE=DATE:20241028
DTSTAMP:20260425T210828
CREATED:20241106T205949Z
LAST-MODIFIED:20241106T205949Z
UID:2051-1729904400-1729990799@pfadi.sh
SUMMARY:Piostufenanlass
DESCRIPTION:
URL:https://pfadi.sh/event/piostufenanlass/
END:VEVENT
BEGIN:VEVENT
DTSTART;TZID=Europe/Zurich:20241026T133000
DTEND;TZID=Europe/Zurich:20241026T173000
DTSTAMP:20260425T210828
CREATED:20241106T205949Z
LAST-MODIFIED:20241106T205949Z
UID:2052-1729949400-1729963800@pfadi.sh
SUMMARY:Stand Herbstmesse
DESCRIPTION:An der diesjährigen Herbstmesse wird der Pfadikantonalverband mit einem Stand am Samstagnachmittag vertreten sein. Die Besuchenden werden einen kleinen Postenlauf machen können und so einen Einblick in die Welt der Pfadi erhalten.
URL:https://pfadi.sh/event/stand-herbstmesse/
END:VEVENT
END:VCALENDAR