BEGIN:VCALENDAR
VERSION:2.0
PRODID:-//Pfadi Schaffhausen - ECPv6.15.20//NONSGML v1.0//EN
CALSCALE:GREGORIAN
METHOD:PUBLISH
X-ORIGINAL-URL:https://pfadi.sh
X-WR-CALDESC:Veranstaltungen für Pfadi Schaffhausen
REFRESH-INTERVAL;VALUE=DURATION:PT1H
X-Robots-Tag:noindex
X-PUBLISHED-TTL:PT1H
BEGIN:VTIMEZONE
TZID:Europe/Zurich
BEGIN:DAYLIGHT
TZOFFSETFROM:+0100
TZOFFSETTO:+0200
TZNAME:CEST
DTSTART:20230326T010000
END:DAYLIGHT
BEGIN:STANDARD
TZOFFSETFROM:+0200
TZOFFSETTO:+0100
TZNAME:CET
DTSTART:20231029T010000
END:STANDARD
BEGIN:DAYLIGHT
TZOFFSETFROM:+0100
TZOFFSETTO:+0200
TZNAME:CEST
DTSTART:20240331T010000
END:DAYLIGHT
BEGIN:STANDARD
TZOFFSETFROM:+0200
TZOFFSETTO:+0100
TZNAME:CET
DTSTART:20241027T010000
END:STANDARD
BEGIN:DAYLIGHT
TZOFFSETFROM:+0100
TZOFFSETTO:+0200
TZNAME:CEST
DTSTART:20250330T010000
END:DAYLIGHT
BEGIN:STANDARD
TZOFFSETFROM:+0200
TZOFFSETTO:+0100
TZNAME:CET
DTSTART:20251026T010000
END:STANDARD
END:VTIMEZONE
BEGIN:VEVENT
DTSTART;VALUE=DATE:20241102
DTEND;VALUE=DATE:20241105
DTSTAMP:20260425T194932
CREATED:20241106T205949Z
LAST-MODIFIED:20241106T205949Z
UID:2053-1730509200-1730681999@pfadi.sh
SUMMARY:Vorweekend Topkurs
DESCRIPTION:
URL:https://pfadi.sh/event/vorweekend-topkurs-2/
END:VEVENT
BEGIN:VEVENT
DTSTART;VALUE=DATE:20241108
DTEND;VALUE=DATE:20241110
DTSTAMP:20260425T194932
CREATED:20241106T205949Z
LAST-MODIFIED:20241106T205949Z
UID:2054-1731027600-1731113999@pfadi.sh
SUMMARY:AL-Runde 4 (KaLei Apéro)
DESCRIPTION:
URL:https://pfadi.sh/event/al-runde-4-kalei-apero/
END:VEVENT
BEGIN:VEVENT
DTSTART;VALUE=DATE:20241110
DTEND;VALUE=DATE:20241112
DTSTAMP:20260425T194932
CREATED:20241106T205949Z
LAST-MODIFIED:20241106T205949Z
UID:2055-1731200400-1731286799@pfadi.sh
SUMMARY:Späher 4 (PAF PAB PAST PAN HaWi Kalei)
DESCRIPTION:
URL:https://pfadi.sh/event/spaeher-4-paf-pab-past-pan-hawi-kalei/
END:VEVENT
BEGIN:VEVENT
DTSTART;VALUE=DATE:20241116
DTEND;VALUE=DATE:20241118
DTSTAMP:20260425T194932
CREATED:20241106T210005Z
LAST-MODIFIED:20241106T210005Z
UID:2056-1731718800-1731805199@pfadi.sh
SUMMARY:Fondueplausch
DESCRIPTION:
URL:https://pfadi.sh/event/fondueplausch/
END:VEVENT
BEGIN:VEVENT
DTSTART;VALUE=DATE:20241122
DTEND;VALUE=DATE:20241126
DTSTAMP:20260425T194932
CREATED:20241106T210005Z
LAST-MODIFIED:20241106T210005Z
UID:2057-1732237200-1732496399@pfadi.sh
SUMMARY:Coachkurs
DESCRIPTION:
URL:https://pfadi.sh/event/coachkurs/
END:VEVENT
BEGIN:VEVENT
DTSTART;VALUE=DATE:20241123
DTEND;VALUE=DATE:20241125
DTSTAMP:20260425T194932
CREATED:20241106T210005Z
LAST-MODIFIED:20241106T210005Z
UID:2058-1732323600-1732409999@pfadi.sh
SUMMARY:Wölflikino
DESCRIPTION:
URL:https://pfadi.sh/event/woelflikino/
END:VEVENT
BEGIN:VEVENT
DTSTART;VALUE=DATE:20241130
DTEND;VALUE=DATE:20241202
DTSTAMP:20260425T194932
CREATED:20241106T210005Z
LAST-MODIFIED:20241106T210005Z
UID:2059-1732928400-1733014799@pfadi.sh
SUMMARY:LKB-Kurs
DESCRIPTION:
URL:https://pfadi.sh/event/lkb-kurs/
END:VEVENT
END:VCALENDAR