BEGIN:VCALENDAR
VERSION:2.0
PRODID:-//Pfadi Schaffhausen - ECPv6.15.20//NONSGML v1.0//EN
CALSCALE:GREGORIAN
METHOD:PUBLISH
X-WR-CALNAME:Pfadi Schaffhausen
X-ORIGINAL-URL:https://pfadi.sh
X-WR-CALDESC:Veranstaltungen für Pfadi Schaffhausen
REFRESH-INTERVAL;VALUE=DURATION:PT1H
X-Robots-Tag:noindex
X-PUBLISHED-TTL:PT1H
BEGIN:VTIMEZONE
TZID:Europe/Zurich
BEGIN:DAYLIGHT
TZOFFSETFROM:+0100
TZOFFSETTO:+0200
TZNAME:CEST
DTSTART:20240331T010000
END:DAYLIGHT
BEGIN:STANDARD
TZOFFSETFROM:+0200
TZOFFSETTO:+0100
TZNAME:CET
DTSTART:20241027T010000
END:STANDARD
BEGIN:DAYLIGHT
TZOFFSETFROM:+0100
TZOFFSETTO:+0200
TZNAME:CEST
DTSTART:20250330T010000
END:DAYLIGHT
BEGIN:STANDARD
TZOFFSETFROM:+0200
TZOFFSETTO:+0100
TZNAME:CET
DTSTART:20251026T010000
END:STANDARD
BEGIN:DAYLIGHT
TZOFFSETFROM:+0100
TZOFFSETTO:+0200
TZNAME:CEST
DTSTART:20260329T010000
END:DAYLIGHT
BEGIN:STANDARD
TZOFFSETFROM:+0200
TZOFFSETTO:+0100
TZNAME:CET
DTSTART:20261025T010000
END:STANDARD
END:VTIMEZONE
BEGIN:VEVENT
DTSTART;VALUE=DATE:20250125
DTEND;VALUE=DATE:20250211
DTSTAMP:20260425T155734
CREATED:20241106T210046Z
LAST-MODIFIED:20241106T210046Z
UID:2069-1737766800-1739149199@pfadi.sh
SUMMARY:Sportferien SH
DESCRIPTION:
URL:https://pfadi.sh/event/sportferien-sh/
END:VEVENT
BEGIN:VEVENT
DTSTART;VALUE=DATE:20250201
DTEND;VALUE=DATE:20250203
DTSTAMP:20260425T155734
CREATED:20241106T210046Z
LAST-MODIFIED:20241106T210046Z
UID:2070-1738371600-1738457999@pfadi.sh
SUMMARY:MF Coach SH - TH - SGARAI
DESCRIPTION:
URL:https://pfadi.sh/event/mf-coach-sh-th-sgarai/
END:VEVENT
BEGIN:VEVENT
DTSTART;TZID=Europe/Zurich:20250209T080000
DTEND;TZID=Europe/Zurich:20250209T083000
DTSTAMP:20260425T155734
CREATED:20241220T141506Z
LAST-MODIFIED:20241220T141506Z
UID:2132-1739088000-1739089800@pfadi.sh
SUMMARY:Redaktionsschluss Späher 2/25
DESCRIPTION:Berichte von… Güetli Seewadel Feuerthalen Neunkirch
URL:https://pfadi.sh/event/redaktionsschluss-spaeher-2-25/
END:VEVENT
BEGIN:VEVENT
DTSTART;TZID=Europe/Zurich:20250221T170000
DTEND;TZID=Europe/Zurich:20250223T173000
DTSTAMP:20260425T155734
CREATED:20241106T210224Z
LAST-MODIFIED:20241106T210224Z
UID:2071-1740157200-1740331800@pfadi.sh
SUMMARY:Coachkurs
DESCRIPTION:
URL:https://pfadi.sh/event/coachkurs-2/
END:VEVENT
BEGIN:VEVENT
DTSTART;TZID=Europe/Zurich:20250221T191500
DTEND;TZID=Europe/Zurich:20250221T204500
DTSTAMP:20260425T155734
CREATED:20241106T210224Z
LAST-MODIFIED:20241106T210224Z
UID:2072-1740165300-1740170700@pfadi.sh
SUMMARY:AL-Runde 1
DESCRIPTION:
URL:https://pfadi.sh/event/al-runde-1/
END:VEVENT
BEGIN:VEVENT
DTSTART;VALUE=DATE:20250222
DTEND;VALUE=DATE:20250224
DTSTAMP:20260425T155734
CREATED:20241106T210224Z
LAST-MODIFIED:20241106T210224Z
UID:2075-1740186000-1740272399@pfadi.sh
SUMMARY:Thinking Day
DESCRIPTION:
URL:https://pfadi.sh/event/thinking-day/
END:VEVENT
BEGIN:VEVENT
DTSTART;VALUE=DATE:20250222
DTEND;VALUE=DATE:20250225
DTSTAMP:20260425T155734
CREATED:20241106T210224Z
LAST-MODIFIED:20241106T210224Z
UID:2074-1740186000-1740358799@pfadi.sh
SUMMARY:AL-Semi 2025
DESCRIPTION:
URL:https://pfadi.sh/event/al-semi-2025/
END:VEVENT
BEGIN:VEVENT
DTSTART;VALUE=DATE:20250222
DTEND;VALUE=DATE:20250309
DTSTAMP:20260425T155734
CREATED:20241106T210224Z
LAST-MODIFIED:20241106T210224Z
UID:2073-1740186000-1741395599@pfadi.sh
SUMMARY:Sportferien ZH
DESCRIPTION:
URL:https://pfadi.sh/event/sportferien-zh/
END:VEVENT
BEGIN:VEVENT
DTSTART;TZID=Europe/Zurich:20250222T180000
DTEND;TZID=Europe/Zurich:20250222T210000
DTSTAMP:20260425T155734
CREATED:20250119T164524Z
LAST-MODIFIED:20250219T210226Z
UID:2147-1740247200-1740258000@pfadi.sh
SUMMARY:Nostalgietreff im Güetli
DESCRIPTION:Liebe einmal-und-immer Pfadis\, am BiPi-Tag\, Samstag 22. Februar 2025  seid ihr herzlich zum Pfadi-Nostalgie-Treff eingeladen. Ab 18 Uhr trifft sich wer im Herzen immer noch Pfadi ist und Lust hat auf: Singsong\, Schwelgen in alten Geschichten\, Austauschen von Aktuellem\, Znacht Essen und Anstossen auf BiPi und seine tolle Erfindung! Wir geniessen den Abend in und um die Pfadihütte GÜETLI. WICHTIG: Der Veranstaltungsort vom Nostalgietreff wurde geändert und findet nun in und um die Pfadihütte Güetli statt\, nicht wie ursprünglich geplant in Beringen. Wir freuen uns über euer Kommen. Bringt eure Rottenkolleginnen und Pfadifreunde mit. Bitte meldet euch bis am 10.2.25 bei Tornado an per Mail: tornado@pfadi.sh. Mit Vorfreude auf ein weiteres kantonales Pfaditreffen grüssen Euch der Kantonalvorstand und die Kantonalleitung.
URL:https://pfadi.sh/event/nostalgietreff/
LOCATION:Pfadihütte Güetli\, Hohlenbaumstrasse 201\, Schaffhausen\, 8200\, Switzerland
ORGANIZER;CN="Tornado":MAILTO:tornado@pfadi.sh
END:VEVENT
END:VCALENDAR